BEGIN:VCALENDAR
VERSION:2.0
PRODID:-//Jazz Haven - ECPv4.6.24//NONSGML v1.0//EN
CALSCALE:GREGORIAN
METHOD:PUBLISH
X-WR-CALNAME:Jazz Haven
X-ORIGINAL-URL:http://jazzhaven.org
X-WR-CALDESC:Events for Jazz Haven
BEGIN:VEVENT
DTSTART;TZID=America/New_York:20241214T200000
DTEND;TZID=America/New_York:20241214T223000
DTSTAMP:20260420T182111
CREATED:20241118T134455Z
LAST-MODIFIED:20241118T134557Z
UID:15683-1734206400-1734215400@jazzhaven.org
SUMMARY:Eric Mintel Quartet:  Charlie Brown Jazz
DESCRIPTION:\n\n\n\n\nEric Mintel Quartet: Charlie Brown Jazz\n\n\n\n\n\nThe Side Door Jazz Club \nat Old Lyme Inn\, 85 Lyme Street\nOld Lyme\, CT 06371 \nSat\, December 14\n8PM / $20 – $45 | $2.33 – $3.56 Fees      Get Tickets \n\n\n\n\n\n\n \n\n\nEric Mintel\n\n\n\n\nEric Mintel has played the piano all his life. Career highlights include two performances by invitation at the White House\, several concerts at the Kennedy Center and a special concert at the United Nations. Eric was a featured guest on Marian McPartland’s award winning program Piano Jazz on NPR and his music is regularly played on XM and Sirius radio. Jazz legend Dave Brubeck has said “As long as the music attracts dedicated young musicians like Eric Mintel\, jazz will\ncontinue to thrive and progress as a voice of freedom”. Eric Mintel continues to thrill audiences of all ages and continues to connect with people all over the world. \nVisit Website\nWatch Video \n\n\n\n\n\n Sat\, December 14 \n8PM / $20 – $45 | $2.33 – $3.56 Fees Get Tickets \n\n\n\n
URL:http://jazzhaven.org/event/15683/
LOCATION:The Side Door Jazz Club\, 85 Lyme St\, Old Lyme
GEO:41.3245662;-72.3263709
X-APPLE-STRUCTURED-LOCATION;VALUE=URI;X-ADDRESS=The Side Door Jazz Club 85 Lyme St Old Lyme;X-APPLE-RADIUS=500;X-TITLE=85 Lyme St:geo:-72.3263709,41.3245662
END:VEVENT
END:VCALENDAR