BEGIN:VCALENDAR
VERSION:2.0
PRODID:-//Jazz Haven - ECPv4.6.24//NONSGML v1.0//EN
CALSCALE:GREGORIAN
METHOD:PUBLISH
X-WR-CALNAME:Jazz Haven
X-ORIGINAL-URL:http://jazzhaven.org
X-WR-CALDESC:Events for Jazz Haven
BEGIN:VEVENT
DTSTART;TZID=America/New_York:20250614T200000
DTEND;TZID=America/New_York:20250614T223000
DTSTAMP:20260420T085658
CREATED:20250603T124412Z
LAST-MODIFIED:20250603T124412Z
UID:16229-1749931200-1749940200@jazzhaven.org
SUMMARY:April May Webb Quintet
DESCRIPTION:\n\nApril May Webb Quintet\n \n\n\n\n\nJoin us for a special night of jazz with Vocalist April May Webb and her Quintet! \n\n\n\n\n\n\n\nBy The Side Door Jazz Club\n\n\n\n\n\n\n\n\n\n\n\n\n\n\nSaturday\, June 14 · 8 – 10:30pm EDT. Doors at 7:15pm\n\n\n\n\n\n\n\n\n\n\nThe Side Door\, 85 Lyme St Old Lyme\, CT 06371 \n\n\n\n\n\n\nApril May Webb – Vocals \nRandall Haywood – Trumpet \nYayoi Ikawa – Piano \nJacob Webb – Bass \nNathan Webb – Drums \nSounds of April & Randall is an award-winning jazz ensemble led by vocalist April May Webb\, 2024 Sarah Vaughan International Jazz Vocal Competition winner\, and trumpeter Randall Haywood\, named “Male Rising Star” by Hot House & Jazzmobile NYC. Their musical chemistry\, first sparked at a New Jersey jam session\, April & Randall blend jazz with Country\, R&B\, and Gospel influences. April May studied under Mulgrew Miller at William Paterson University\, while Randall earned his Master’s at Juilliard. In 2023\, they were named U.S. Cultural Ambassadors\, touring Fiji and Tonga through the State Department. They also received grants from Chamber Music America and South Arts. Their music has earned national acclaim—”Horizon “hit #17 on the Billboard Contemporary Jazz Charts\, and Questions Left Unansweredpeaked at #12 on the National Jazz Week charts. In 2025\, “Everybody Ain’t Gonna Like You” won Gold at the Annual Songwriters Association Competition of Washington. Randall was the youngest Lincoln Center Jazz Orchestra member at 15\, and April May was the first Black woman to graduate from William Paterson’s Jazz Education program. Together\, they create music that inspires. \n\n\n\n\n\n
URL:http://jazzhaven.org/event/april-may-webb-quintet-2/
LOCATION:The Side Door Jazz Club\, 85 Lyme St\, Old Lyme
GEO:41.3245662;-72.3263709
X-APPLE-STRUCTURED-LOCATION;VALUE=URI;X-ADDRESS=The Side Door Jazz Club 85 Lyme St Old Lyme;X-APPLE-RADIUS=500;X-TITLE=85 Lyme St:geo:-72.3263709,41.3245662
CATEGORIES:Gigs
END:VEVENT
END:VCALENDAR