BEGIN:VCALENDAR
VERSION:2.0
PRODID:-//Jazz Haven - ECPv4.6.24//NONSGML v1.0//EN
CALSCALE:GREGORIAN
METHOD:PUBLISH
X-WR-CALNAME:Jazz Haven
X-ORIGINAL-URL:http://jazzhaven.org
X-WR-CALDESC:Events for Jazz Haven
BEGIN:VEVENT
DTSTART;TZID=America/New_York:20241214T190000
DTEND;TZID=America/New_York:20241214T210000
DTSTAMP:20260420T201508
CREATED:20241022T155048Z
LAST-MODIFIED:20241022T155048Z
UID:15001-1734202800-1734210000@jazzhaven.org
SUMMARY:CARLOS MANUEL GOMEZ & JEFF FULLER: CUBAN JAZZ
DESCRIPTION:CARLOS MANUEL GOMEZ & JEFF FULLER: CUBAN JAZZ\n\nSaturday\, December 14\, 2024\n 7:00 PM 9:00 PM \nBest Video Film & Cultural Center\n\n
URL:http://jazzhaven.org/event/carlos-manuel-gomez-jeff-fuller-cuban-jazz/
LOCATION:Best Video Film & Cultural Center\, 1842 Whitney Ave\, Hamden\, CT\, 06517\, United States
GEO:41.3658143;-72.9086357
X-APPLE-STRUCTURED-LOCATION;VALUE=URI;X-ADDRESS=Best Video Film & Cultural Center 1842 Whitney Ave Hamden CT 06517 United States;X-APPLE-RADIUS=500;X-TITLE=1842 Whitney Ave:geo:-72.9086357,41.3658143
CATEGORIES:Gigs
END:VEVENT
END:VCALENDAR