BEGIN:VCALENDAR
VERSION:2.0
PRODID:-//Jazz Haven - ECPv4.6.24//NONSGML v1.0//EN
CALSCALE:GREGORIAN
METHOD:PUBLISH
X-WR-CALNAME:Jazz Haven
X-ORIGINAL-URL:http://jazzhaven.org
X-WR-CALDESC:Events for Jazz Haven
BEGIN:VEVENT
DTSTART;TZID=America/New_York:20250105T120000
DTEND;TZID=America/New_York:20250105T150000
DTSTAMP:20260423T024748
CREATED:20241215T235612Z
LAST-MODIFIED:20241215T235612Z
UID:15741-1736078400-1736089200@jazzhaven.org
SUMMARY:Jeff Fuller & Tony Lombardozzi at Quattro's
DESCRIPTION:Jeff Fuller\, bass\, and Tony Lombardozzi\, guitar\, perform on Sunday\, January 5th at Quattro’s Italian Restaurant & Bar\, 14 Water Street\, Guilford\, CT for their legendary Jazz Brunch from 12 – 3 pm \n \n
URL:http://jazzhaven.org/event/jeff-fuller-tony-lombardozzi-at-quattros/
LOCATION:Quattro’s Italian Restaurant\, 14 Water St\, Guilford
GEO:41.2808147;-72.6821818
X-APPLE-STRUCTURED-LOCATION;VALUE=URI;X-ADDRESS=Quattro’s Italian Restaurant 14 Water St Guilford;X-APPLE-RADIUS=500;X-TITLE=14 Water St:geo:-72.6821818,41.2808147
CATEGORIES:Jazz Brunch
END:VEVENT
END:VCALENDAR