BEGIN:VCALENDAR
VERSION:2.0
PRODID:-//Jazz Haven - ECPv4.6.24//NONSGML v1.0//EN
CALSCALE:GREGORIAN
METHOD:PUBLISH
X-WR-CALNAME:Jazz Haven
X-ORIGINAL-URL:http://jazzhaven.org
X-WR-CALDESC:Events for Jazz Haven
BEGIN:VEVENT
DTSTART;TZID=America/New_York:20250628T190000
DTEND;TZID=America/New_York:20250628T210000
DTSTAMP:20260422T090020
CREATED:20250623T154012Z
LAST-MODIFIED:20250623T154012Z
UID:16272-1751137200-1751144400@jazzhaven.org
SUMMARY:Mark Kaplan Jazz Quartet
DESCRIPTION:Mark Kaplan Jazz Quartet\nSaturday\, June 28\,·7:00 – 9:00pm\nThe Buttonwood Tree\, 605 Main St\, Middletown\, CT 06457\, USA \n
URL:http://jazzhaven.org/event/mark-kaplan-jazz-quartet-2/
LOCATION:Buttonwood Tree\, 605 Main St\, Middletown
GEO:41.5641864;-72.6523953
X-APPLE-STRUCTURED-LOCATION;VALUE=URI;X-ADDRESS=Buttonwood Tree 605 Main St Middletown;X-APPLE-RADIUS=500;X-TITLE=605 Main St:geo:-72.6523953,41.5641864
CATEGORIES:Gigs
END:VEVENT
END:VCALENDAR