BEGIN:VCALENDAR
VERSION:2.0
PRODID:-//Jazz Haven - ECPv4.6.24//NONSGML v1.0//EN
CALSCALE:GREGORIAN
METHOD:PUBLISH
X-WR-CALNAME:Jazz Haven
X-ORIGINAL-URL:http://jazzhaven.org
X-WR-CALDESC:Events for Jazz Haven
BEGIN:VEVENT
DTSTART;TZID=America/New_York:20250307T190000
DTEND;TZID=America/New_York:20250307T230000
DTSTAMP:20260420T082830
CREATED:20241202T231537Z
LAST-MODIFIED:20241202T231537Z
UID:15702-1741374000-1741388400@jazzhaven.org
SUMMARY:Sally Terrell Quartet
DESCRIPTION:Two Shows === 7:00 PM & 9:00 PM. === Tickets at (203) 346-2000 \nSally Terrell’s professional singing career may be a “second act” following thirty years as an English professor\, but music has always been her first passion. A native of Youngstown\, New York\, she began playing piano and singing at age six\, poking out melodies alongside her father\, a classically trained pianist and jazz aficionado who passed along his love for music while discovering his youngest daughter could play and sing by ear. Terrell’s interest and skill flourished in her public school music program\, but she would put her musical ambitions aside while building a successful college teaching career in Connecticut. Terrell began singing professionally when she and her husband formed the Green Jazz Band in 2010.\nHer second release\, Feel Alive (2022)\, “artfully captures the zeitgeist of the pandemic era with a collection of emotional\, socially conscious originals and fresh interpretations of standards that uniquely fit our cultural moment.” Both projects highlight a fruitful collaboration with producer and renowned jazz pianist John diMartino\, who says of her work\, “Sally brings a beautiful energy to these songs\, breathing new life into them.” Terrell’s intuitive interpretations and razor-sharp ear showcase a velvety alto and a gift for sharing the timeless stories of jazz while boldly exploring her range across musical genres. \n
URL:http://jazzhaven.org/event/sally-terrell-quartet/
LOCATION:Palace Theater Poli Club\, 100 East Main St\, Waterbury
GEO:41.55521;-73.0392909
X-APPLE-STRUCTURED-LOCATION;VALUE=URI;X-ADDRESS=Palace Theater Poli Club 100 East Main St Waterbury;X-APPLE-RADIUS=500;X-TITLE=100 East Main St:geo:-73.0392909,41.55521
CATEGORIES:Gigs
ORGANIZER;CN="New%20England%20Arts%20%26amp%3B%20Entertainment":MAILTO:mike@neaae.com
END:VEVENT
END:VCALENDAR