BEGIN:VCALENDAR
VERSION:2.0
PRODID:-//Jazz Haven - ECPv4.6.24//NONSGML v1.0//EN
CALSCALE:GREGORIAN
METHOD:PUBLISH
X-WR-CALNAME:Jazz Haven
X-ORIGINAL-URL:http://jazzhaven.org
X-WR-CALDESC:Events for Jazz Haven
BEGIN:VEVENT
DTSTART;TZID=America/New_York:20241219T183000
DTEND;TZID=America/New_York:20241219T213000
DTSTAMP:20260420T125454
CREATED:20241202T230339Z
LAST-MODIFIED:20241202T230339Z
UID:15717-1734633000-1734643800@jazzhaven.org
SUMMARY:Wes Lewis Quartet
DESCRIPTION:On  Thursday\, Dec. 19th\, from 6:30-9:30 pm\, bassist Jeff Fuller joins the fine young saxophonist Wes Lewis and his quartet at Encore by Goodfellas\, 702 State Street\, New Haven.  Come on upstairs to the cool balcony to join us. \nOn Mondays in December (except the 16th) from 7 – 8:30 pm \n
URL:http://jazzhaven.org/event/wes-lewis-quartet-2/
LOCATION:Encore by Goodfellas\, 702 State Street\, New Haven\, CT\, 06511\, United States
CATEGORIES:Gigs
END:VEVENT
END:VCALENDAR