BEGIN:VCALENDAR
VERSION:2.0
PRODID:-//Jazz Haven - ECPv4.6.24//NONSGML v1.0//EN
CALSCALE:GREGORIAN
METHOD:PUBLISH
X-WR-CALNAME:Jazz Haven
X-ORIGINAL-URL:https://jazzhaven.org
X-WR-CALDESC:Events for Jazz Haven
BEGIN:VEVENT
DTSTART;TZID=America/New_York:20260523T200000
DTEND;TZID=America/New_York:20260523T223000
DTSTAMP:20260424T083839
CREATED:20260419T122154Z
LAST-MODIFIED:20260419T122234Z
UID:18054-1779566400-1779575400@jazzhaven.org
SUMMARY:Billy Childs Trio
DESCRIPTION: \nBilly Childs Trio\n\n\n\n\n\n\n\n\n\nByThe Side Door Jazz Club\nThe Side Door Old Lyme\, CT\n\n\n\n\n\nSaturday\, May 23  •  8 PM – 10:30 PM\n\n\n\n\n\nA six-time Grammy winner and one of the most celebrated pianists and composers of his generation comes to The Side Door. \n\n\n\n\n\nBilly Childs · Piano \nMatt Penman · Bass \nAri Hoenig · Drums \nBilly Childs stands in a category of his own in contemporary jazz. A pianist\, composer\, arranger\, and conductor whose music moves effortlessly between jazz and the classical tradition\, he has garnered six Grammy Awards and seventeen nominations — including back-to-back wins for Best Jazz Instrumental Album for Rebirth (2018) and The Winds of Change (2024). The Guggenheim Foundation\, the Doris Duke Foundation\, and the American Academy of Arts and Letters have all recognized his work. DownBeat simply calls him “one of the foremost American composers of his era.” \nChilds began his career in the late 1970s apprenticing alongside Freddie Hubbard and J.J. Johnson — two of jazz’s all-time giants. Since then he has performed and collaborated with Yo-Yo Ma\, Wynton Marsalis\, Wayne Shorter\, Sting\, Esperanza Spalding\, Dianne Reeves\, the Kronos Quartet\, and the Los Angeles Philharmonic\, among many others. His compositions have been commissioned by the LA Philharmonic\, the Detroit Symphony\, the Lincoln Center Jazz Orchestra\, and the LA Master Chorale. \nAt The Side Door\, he brings the piano trio format down to its most intimate — just three musicians in a room\, playing at the highest level. This is a rare opportunity to hear one of jazz’s true masters in close quarters. \nThe Side Door Jazz Club is a dedicated jazz listening room located inside the historic Old Lyme Inn\, 85 Lyme Street\, Old Lyme\, CT. Tickets are reserved seating. Guests dining at the Old Lyme Inn restaurant prior to the show receive 10% off their dinner bill. \n\n\n\n\n
URL:https://jazzhaven.org/event/18054/
LOCATION:The Side Door Jazz Club\, 85 Lyme St\, Old Lyme
GEO:41.3245662;-72.3263709
X-APPLE-STRUCTURED-LOCATION;VALUE=URI;X-ADDRESS=The Side Door Jazz Club 85 Lyme St Old Lyme;X-APPLE-RADIUS=500;X-TITLE=85 Lyme St:geo:-72.3263709,41.3245662
CATEGORIES:Gigs
END:VEVENT
END:VCALENDAR