BEGIN:VCALENDAR
VERSION:2.0
PRODID:-//Jazz Haven - ECPv4.6.24//NONSGML v1.0//EN
CALSCALE:GREGORIAN
METHOD:PUBLISH
X-WR-CALNAME:Jazz Haven
X-ORIGINAL-URL:https://jazzhaven.org
X-WR-CALDESC:Events for Jazz Haven
BEGIN:VEVENT
DTSTART;TZID=America/New_York:20250807T180000
DTEND;TZID=America/New_York:20250807T210000
DTSTAMP:20260420T085015
CREATED:20250804T171030Z
LAST-MODIFIED:20250804T171030Z
UID:16367-1754589600-1754600400@jazzhaven.org
SUMMARY:AH-BEATS & JAZZ
DESCRIPTION: \n
URL:https://jazzhaven.org/event/ah-beats-jazz/
LOCATION:The Lodge at Silver Sands\, 640 Silver Sands Road\, East Haven\, CT\, 06512\, United States
CATEGORIES:Gigs
END:VEVENT
END:VCALENDAR