BEGIN:VCALENDAR
VERSION:2.0
PRODID:-//Jazz Haven - ECPv4.6.24//NONSGML v1.0//EN
CALSCALE:GREGORIAN
METHOD:PUBLISH
X-WR-CALNAME:Jazz Haven
X-ORIGINAL-URL:https://jazzhaven.org
X-WR-CALDESC:Events for Jazz Haven
BEGIN:VEVENT
DTSTART;TZID=America/New_York:20250815T180000
DTEND;TZID=America/New_York:20250815T210000
DTSTAMP:20260421T101543
CREATED:20250815T115704Z
LAST-MODIFIED:20250815T115704Z
UID:16380-1755280800-1755291600@jazzhaven.org
SUMMARY:Chris Morrison & Jamie Finegan
DESCRIPTION: \nFriday 8/15 @ The Bangkok Room in Ansonia \n
URL:https://jazzhaven.org/event/chris-morrison-jamie-finegan/
LOCATION:Bangkok Room\, 76 Main Street\, Ansonia\, CT\, 06401\, United States
CATEGORIES:Gigs
END:VEVENT
END:VCALENDAR