BEGIN:VCALENDAR
VERSION:2.0
PRODID:-//Jazz Haven - ECPv4.6.24//NONSGML v1.0//EN
CALSCALE:GREGORIAN
METHOD:PUBLISH
X-WR-CALNAME:Jazz Haven
X-ORIGINAL-URL:https://jazzhaven.org
X-WR-CALDESC:Events for Jazz Haven
BEGIN:VEVENT
DTSTART;TZID=America/New_York:20260419T120000
DTEND;TZID=America/New_York:20260419T150000
DTSTAMP:20260421T100205
CREATED:20260401T194025Z
LAST-MODIFIED:20260401T194535Z
UID:17984-1776600000-1776610800@jazzhaven.org
SUMMARY:Dr. G’s Jazz Brunch at Quattro’s
DESCRIPTION:Sunday\, April 19th\, from 12 – 3 pm\, Dr. G’s Jazz Brunch at Quattro’s Italian Restaurant & Bar (14 Water Street\, Guilford\, CT)  ushers in the new season with  jazz vocalist April Marie. Guitarist Gary Grippo\, who leads the show\, joins bassist Jeff Fuller and Barry Ries on drums and trumpet.  Hope you can stop by for the great food and music!  Looking ahead: on May 3rd they’ll be joined by renowned bebop singer\, Giacomo Gates! So… if you like jazz singers\, this is your month. \n
URL:https://jazzhaven.org/event/dr-gs-jazz-brunch-at-quattros-3/
LOCATION:Quattro’s Italian Restaurant\, 14 Water St\, Guilford
GEO:41.2808147;-72.6821818
X-APPLE-STRUCTURED-LOCATION;VALUE=URI;X-ADDRESS=Quattro’s Italian Restaurant 14 Water St Guilford;X-APPLE-RADIUS=500;X-TITLE=14 Water St:geo:-72.6821818,41.2808147
CATEGORIES:Jazz Brunch
END:VEVENT
END:VCALENDAR