BEGIN:VCALENDAR
VERSION:2.0
PRODID:-//Jazz Haven - ECPv4.6.24//NONSGML v1.0//EN
CALSCALE:GREGORIAN
METHOD:PUBLISH
X-WR-CALNAME:Jazz Haven
X-ORIGINAL-URL:https://jazzhaven.org
X-WR-CALDESC:Events for Jazz Haven
BEGIN:VEVENT
DTSTART;TZID=America/New_York:20260509T200000
DTEND;TZID=America/New_York:20260509T223000
DTSTAMP:20260422T231926
CREATED:20260416T133047Z
LAST-MODIFIED:20260417T120024Z
UID:18029-1778356800-1778365800@jazzhaven.org
SUMMARY:Ed Fast & Conga Bop
DESCRIPTION: \nEd Fast & Conga Bop\n\n\n\n\n\nByThe Side Door Jazz Club\n\n\n\n\n\nThe Side Door Old Lyme\, CT \nSaturday\, May 9  •  8 PM – 10:30 PM\n\n\n\nTen world-class musicians\, one intimate room — Ed Fast & Conga Bop bring their Afro-Cuban jazz to The Side Door. \n\n\n\n\n\nEd Fast · Drums\nDina DiMarco · Vocals\nSteve Davis · Trombone\nJosh Bruneau · Trumpet\nWayne Escoffery · Tenor Saxophone\nAmy Millan · Piano\nGianni Gardner · Guitar\nMatt Dwonszyk · Bass\nJorge Fuentes · Congas\nAnthony Carrillo · Timbales \nA Hartford Courant favorite and a fixture of the Connecticut jazz scene for over two decades\, Ed Fast & Conga Bop fuse Afro-Cuban rhythms and hard-bop harmony into a sound that is impossible to sit still for. The band grooves through a rich palette of Latin rhythms — rumba\, cha cha cha\, son\, and Afro-Cuban 6/8 — drawing on the music of legends like Cal Tjader\, Tito Puente\, and Hilton Ruiz alongside Fast’s own soulful originals. \nBandleader Ed Fast is a Hartt School-trained multi-instrumentalist equally at home on drums\, timbales\, congas\, and vibraphone. His career has taken him from the pit orchestras of Broadway road shows touring Russia\, China\, Japan\, and South Korea\, to backup bands accompanying Aretha Franklin\, Paul Anka\, and Chita Rivera at Foxwoods and Mohegan Sun\, to the stage of New York’s Iridium Jazz Club. The Hartford Courant called him “a celebrated figure in town” and Latin Beat Magazine has praised the band’s unique sound. \nJoining Fast is an exceptional cast of musicians. Vocalist Dina DiMarco brings an electrifying presence and a wide-ranging repertoire spanning jazz standards and Broadway classics. Trombonist Steve Davis is one of the most recorded and respected voices in jazz\, with credits spanning Art Blakey’s Jazz Messengers lineage and dozens of acclaimed recordings as a leader. Tenor saxophonist Wayne Escoffery has established himself as one of the most in-demand voices in contemporary jazz\, with a long association with the Mingus Big Band and Tom Harrell. Rounding out the ensemble are some of the region’s finest rhythm section players and percussionists\, creating the kind of layered\, infectious groove that has made Conga Bop one of New England’s most beloved live acts. \nThis is a big band experience in an intimate room — the kind of night that gets people out of their seats. \nThe Side Door Jazz Club is a dedicated jazz listening room located inside the historic Old Lyme Inn\, 85 Lyme Street\, Old Lyme\, CT. Tickets are reserved seating. Guests dining at the Old Lyme Inn restaurant prior to the show receive 10% off their dinner bill. \n\n\n\n\n
URL:https://jazzhaven.org/event/ed-fast-conga-bop/
LOCATION:The Side Door Jazz Club\, 85 Lyme St\, Old Lyme
GEO:41.3245662;-72.3263709
X-APPLE-STRUCTURED-LOCATION;VALUE=URI;X-ADDRESS=The Side Door Jazz Club 85 Lyme St Old Lyme;X-APPLE-RADIUS=500;X-TITLE=85 Lyme St:geo:-72.3263709,41.3245662
CATEGORIES:Gigs
END:VEVENT
END:VCALENDAR