BEGIN:VCALENDAR
VERSION:2.0
PRODID:-//Jazz Haven - ECPv4.6.24//NONSGML v1.0//EN
CALSCALE:GREGORIAN
METHOD:PUBLISH
X-WR-CALNAME:Jazz Haven
X-ORIGINAL-URL:https://jazzhaven.org
X-WR-CALDESC:Events for Jazz Haven
BEGIN:VEVENT
DTSTART;TZID=America/New_York:20251220T200000
DTEND;TZID=America/New_York:20251220T223000
DTSTAMP:20260420T101435
CREATED:20251202T214613Z
LAST-MODIFIED:20251202T214613Z
UID:17150-1766260800-1766269800@jazzhaven.org
SUMMARY:Eddie Allen's Jazzy Brass for the Holidays
DESCRIPTION: \n\n\nEddie Allen’s Jazzy Brass for the Holidays\n\n\n\n\n\n\nBy The Side Door Jazz Club\n\n\n\n\nDec 20 from 8pm to 10:30pm EST\n\n\n\n\n\n\n\n\nJoin us for a special night of jazz with Trumpeter Eddie Allen and his band\, which will be spreading the Holiday Cheer!\n\n\n\nEddie Allen – Trumpet \nMark McGowan – Trumpet \nAmie Amis – French Horn \nJerrick Matthews – Trombone \nOscar Perez – Piano \nRichie Goods – Bass \nJerome Jennings – Drums \n– CRITIC’S REVIEW – \nA smart holiday set that might have some fat playing but certainly doesn’t show any schmaltz- CHRIS SPECTOR MIDWEST RECORD \nNew Yorker Eddie Allen has assembled a sassy brass quartet (plus acoustic bass and some percussion)\, generating white heat and a slow burn for the holidays. ChristmasReviews.com–Carol Swanson \nTrumpeter Allen has conviction in what he’s doing. Refusing to stoop to weak sentiment\, he communicates his sense of uplift when refurbishing “We Three Kings”\, “O Holy Night” and a dozen more classics. Downbeat MagazineFrank Hadley \nHere\, Allen has chosen to go the jazzy route from the outset on the pop material. For the carols\, he makes use of the brass quartet to state the melody\, but then allows the individual horn players to follow their improvisational imagination. It makes for an interesting mix that is a pleasant and lively change of pace from most jazz Christmas albums.Jersey Jazz.Joe Lang \n\n\n\n\n\n\n\n\n
URL:https://jazzhaven.org/event/eddie-allens-jazzy-brass-for-the-holidays/
LOCATION:The Side Door Jazz Club\, 85 Lyme St\, Old Lyme
GEO:41.3245662;-72.3263709
X-APPLE-STRUCTURED-LOCATION;VALUE=URI;X-ADDRESS=The Side Door Jazz Club 85 Lyme St Old Lyme;X-APPLE-RADIUS=500;X-TITLE=85 Lyme St:geo:-72.3263709,41.3245662
CATEGORIES:Gigs
END:VEVENT
END:VCALENDAR