BEGIN:VCALENDAR
VERSION:2.0
PRODID:-//Jazz Haven - ECPv4.6.24//NONSGML v1.0//EN
CALSCALE:GREGORIAN
METHOD:PUBLISH
X-WR-CALNAME:Jazz Haven
X-ORIGINAL-URL:https://jazzhaven.org
X-WR-CALDESC:Events for Jazz Haven
BEGIN:VEVENT
DTSTART;TZID=America/New_York:20250302T120000
DTEND;TZID=America/New_York:20250302T150000
DTSTAMP:20260420T100924
CREATED:20250129T210111Z
LAST-MODIFIED:20250129T210144Z
UID:15866-1740916800-1740927600@jazzhaven.org
SUMMARY:Giacomo Gates at Quattro's Jazz Brunch
DESCRIPTION:On Sunday\, March 2  –  Jazz Brunch from 12 – 3 pm at Quattro’s Italian Restaurant & Bar\, 14 Water Street\, Guilford\, CT.  Dr. Gary Grippo leads a talented group of jazz musicians to join him including the always inventive Barry Ries on drums & trumpet\, the brilliant bassist Jeff Fuller\, and Dr. G himself on guitar.  Special guest is jazz singer extraordinaire Giacomo Gates. \n
URL:https://jazzhaven.org/event/giacomo-gates-at-quattros-jazz-brunch/
LOCATION:Quattro’s Italian Restaurant\, 14 Water St\, Guilford
GEO:41.2808147;-72.6821818
X-APPLE-STRUCTURED-LOCATION;VALUE=URI;X-ADDRESS=Quattro’s Italian Restaurant 14 Water St Guilford;X-APPLE-RADIUS=500;X-TITLE=14 Water St:geo:-72.6821818,41.2808147
CATEGORIES:Jazz Brunch
END:VEVENT
END:VCALENDAR