BEGIN:VCALENDAR
VERSION:2.0
PRODID:-//Jazz Haven - ECPv4.6.24//NONSGML v1.0//EN
CALSCALE:GREGORIAN
METHOD:PUBLISH
X-WR-CALNAME:Jazz Haven
X-ORIGINAL-URL:https://jazzhaven.org
X-WR-CALDESC:Events for Jazz Haven
BEGIN:VEVENT
DTSTART;TZID=America/New_York:20260418T183000
DTEND;TZID=America/New_York:20260418T213000
DTSTAMP:20260420T084836
CREATED:20260401T195401Z
LAST-MODIFIED:20260401T195401Z
UID:17990-1776537000-1776547800@jazzhaven.org
SUMMARY:Jazz at Café Amici
DESCRIPTION:On Saturday\, April 18th from 6:30 – 9:30 pm come hear the earthy vocalist\, Faye Green along with guitarist Michael Coppola\, bassist Jeff Fuller and a drummer TBA at Café Amici\, 1640 Whitney Ave.\, Hamden.  Hopefully it’ll be warm enough for us to play outside. \n
URL:https://jazzhaven.org/event/jazz-at-cafe-amici/
LOCATION:Café Amici\, 1640 Whitney Avenue\, Hamden\, 06517\, United States
CATEGORIES:Gigs
END:VEVENT
END:VCALENDAR