BEGIN:VCALENDAR
VERSION:2.0
PRODID:-//Jazz Haven - ECPv4.6.24//NONSGML v1.0//EN
CALSCALE:GREGORIAN
METHOD:PUBLISH
X-WR-CALNAME:Jazz Haven
X-ORIGINAL-URL:https://jazzhaven.org
X-WR-CALDESC:Events for Jazz Haven
BEGIN:VEVENT
DTSTART;TZID=America/New_York:20251019T120000
DTEND;TZID=America/New_York:20251019T150000
DTSTAMP:20260420T085430
CREATED:20251009T002839Z
LAST-MODIFIED:20251009T002839Z
UID:16490-1760875200-1760886000@jazzhaven.org
SUMMARY:Jazz Brunch at Quattro’s
DESCRIPTION:On Sunday\, October 19th  from 12-3 pm it’s’ the Jazz Brunch at Quattro’s Italian Restaurant & Bar\, 14 Water Street\, Guilford\, CT with guitarist Gary Grippo\, bassist Jeff Fuller\, the very inventive Barry Ries on drums & trumpet\, and guest vocalist (and ukuleleist) Jillian Grey. \n
URL:https://jazzhaven.org/event/jazz-brunch-at-quattros-5/
LOCATION:Quattro’s Italian Restaurant\, 14 Water St\, Guilford
GEO:41.2808147;-72.6821818
X-APPLE-STRUCTURED-LOCATION;VALUE=URI;X-ADDRESS=Quattro’s Italian Restaurant 14 Water St Guilford;X-APPLE-RADIUS=500;X-TITLE=14 Water St:geo:-72.6821818,41.2808147
CATEGORIES:Jazz Brunch
END:VEVENT
END:VCALENDAR