BEGIN:VCALENDAR
VERSION:2.0
PRODID:-//Jazz Haven - ECPv4.6.24//NONSGML v1.0//EN
CALSCALE:GREGORIAN
METHOD:PUBLISH
X-WR-CALNAME:Jazz Haven
X-ORIGINAL-URL:https://jazzhaven.org
X-WR-CALDESC:Events for Jazz Haven
BEGIN:VEVENT
DTSTART;TZID=America/New_York:20251116T120000
DTEND;TZID=America/New_York:20251116T150000
DTSTAMP:20260420T100800
CREATED:20251009T003029Z
LAST-MODIFIED:20251009T003029Z
UID:16492-1763294400-1763305200@jazzhaven.org
SUMMARY:Jazz Brunch at Quattro's
DESCRIPTION:Jazz Brunch at Quattro’s Italian Restaurant\, Sunday\, November 16th from 12-3 pm. The guest artist will be the fabulously gifted trombonist and vocalist\, Naomi Wharry. \n
URL:https://jazzhaven.org/event/jazz-brunch-at-quattros-6/
LOCATION:Quattro’s Italian Restaurant\, 14 Water St\, Guilford
GEO:41.2808147;-72.6821818
X-APPLE-STRUCTURED-LOCATION;VALUE=URI;X-ADDRESS=Quattro’s Italian Restaurant 14 Water St Guilford;X-APPLE-RADIUS=500;X-TITLE=14 Water St:geo:-72.6821818,41.2808147
CATEGORIES:Jazz Brunch
END:VEVENT
END:VCALENDAR