BEGIN:VCALENDAR
VERSION:2.0
PRODID:-//Jazz Haven - ECPv4.6.24//NONSGML v1.0//EN
CALSCALE:GREGORIAN
METHOD:PUBLISH
X-WR-CALNAME:Jazz Haven
X-ORIGINAL-URL:https://jazzhaven.org
X-WR-CALDESC:Events for Jazz Haven
BEGIN:VEVENT
DTSTART;TZID=America/New_York:20260201T160000
DTEND;TZID=America/New_York:20260201T173000
DTSTAMP:20260422T102014
CREATED:20260123T183620Z
LAST-MODIFIED:20260123T183620Z
UID:17666-1769961600-1769967000@jazzhaven.org
SUMMARY:Jeff Fuller & Friends
DESCRIPTION:Jeff Fuller & Friends\, with Naomi Wharry (trb/voc)\, Nigel Regan (alto sax)\, Ryan Sands (drs)\, and Darren Litzie (pno.) perform on Sunday\, February 1st from 4 – 5:30 pm at the Yale Jazz Festival in the E-Room of the Afro-American Cultural Center\, 211 Park Street\, New Haven. This event is free and open to the public\, \n
URL:https://jazzhaven.org/event/jeff-fuller-friends-3/
LOCATION:Afro-American Cultural Center\, 211 Park Street\, New Haven
CATEGORIES:Gigs
END:VEVENT
END:VCALENDAR