BEGIN:VCALENDAR
VERSION:2.0
PRODID:-//Jazz Haven - ECPv4.6.24//NONSGML v1.0//EN
CALSCALE:GREGORIAN
METHOD:PUBLISH
X-WR-CALNAME:Jazz Haven
X-ORIGINAL-URL:https://jazzhaven.org
X-WR-CALDESC:Events for Jazz Haven
BEGIN:VEVENT
DTSTART;TZID=America/New_York:20250822T180000
DTEND;TZID=America/New_York:20250822T210000
DTSTAMP:20260421T143106
CREATED:20250722T144411Z
LAST-MODIFIED:20250722T144411Z
UID:16347-1755885600-1755896400@jazzhaven.org
SUMMARY:Joe Carter & Jeff Fuller Duo
DESCRIPTION:August 22\, 2025\, 6-9 PM\nJoe Carter\, guitar with bassist Jeff Fuller \nBangkok Room\n76 Main Street\nAnsonia\, CT\nReservations: 203.516.5345 \n
URL:https://jazzhaven.org/event/joe-carter-jeff-fuller-duo/
LOCATION:Bangkok Room\, 76 Main Street\, Ansonia\, CT\, 06401\, United States
CATEGORIES:Gigs
END:VEVENT
END:VCALENDAR