BEGIN:VCALENDAR
VERSION:2.0
PRODID:-//Jazz Haven - ECPv4.6.24//NONSGML v1.0//EN
CALSCALE:GREGORIAN
METHOD:PUBLISH
X-WR-CALNAME:Jazz Haven
X-ORIGINAL-URL:https://jazzhaven.org
X-WR-CALDESC:Events for Jazz Haven
BEGIN:VEVENT
DTSTART;TZID=America/New_York:20260426T120000
DTEND;TZID=America/New_York:20260426T150000
DTSTAMP:20260421T102051
CREATED:20260409T114246Z
LAST-MODIFIED:20260409T114246Z
UID:18006-1777204800-1777215600@jazzhaven.org
SUMMARY:Mark Kaplan Jazz Quartet
DESCRIPTION:Sunday\, April 26th\, Jazz Brunch at Quattro’s\, noon to 3 p.m. — The Mark Kaplan Jazz Quartet with guest artist Michael Coppola on guitar. \n
URL:https://jazzhaven.org/event/mark-kaplan-jazz-quartet-7/
LOCATION:Quattro’s Italian Restaurant\, 14 Water St\, Guilford
GEO:41.2808147;-72.6821818
X-APPLE-STRUCTURED-LOCATION;VALUE=URI;X-ADDRESS=Quattro’s Italian Restaurant 14 Water St Guilford;X-APPLE-RADIUS=500;X-TITLE=14 Water St:geo:-72.6821818,41.2808147
CATEGORIES:Jazz Brunch
END:VEVENT
END:VCALENDAR