BEGIN:VCALENDAR
VERSION:2.0
PRODID:-//Jazz Haven - ECPv4.6.24//NONSGML v1.0//EN
CALSCALE:GREGORIAN
METHOD:PUBLISH
X-WR-CALNAME:Jazz Haven
X-ORIGINAL-URL:https://jazzhaven.org
X-WR-CALDESC:Events for Jazz Haven
BEGIN:VEVENT
DTSTART;TZID=America/New_York:20250119T120000
DTEND;TZID=America/New_York:20250119T150000
DTSTAMP:20260420T100000
CREATED:20241215T235818Z
LAST-MODIFIED:20241215T235818Z
UID:15743-1737288000-1737298800@jazzhaven.org
SUMMARY:Quattro's Jazz Brunch
DESCRIPTION:Jeff Fuller\, bass\,  guitarist Mike Godette and drummer Ben Bilello perform on Sunday\, January 19th at Quattro’s Italian Restaurant & Bar\, 14 Water Street\, Guilford\, CT for their legendary Jazz Brunch from 12 – 3 pm \n
URL:https://jazzhaven.org/event/quattros-jazz-brunch/
LOCATION:Quattro’s Italian Restaurant\, 14 Water St\, Guilford
GEO:41.2808147;-72.6821818
X-APPLE-STRUCTURED-LOCATION;VALUE=URI;X-ADDRESS=Quattro’s Italian Restaurant 14 Water St Guilford;X-APPLE-RADIUS=500;X-TITLE=14 Water St:geo:-72.6821818,41.2808147
CATEGORIES:Jazz Brunch
END:VEVENT
END:VCALENDAR