BEGIN:VCALENDAR
VERSION:2.0
PRODID:-//Jazz Haven - ECPv4.6.24//NONSGML v1.0//EN
CALSCALE:GREGORIAN
METHOD:PUBLISH
X-WR-CALNAME:Jazz Haven
X-ORIGINAL-URL:https://jazzhaven.org
X-WR-CALDESC:Events for Jazz Haven
BEGIN:VEVENT
DTSTART;TZID=America/New_York:20250405T140000
DTEND;TZID=America/New_York:20250405T160000
DTSTAMP:20260421T085948
CREATED:20250401T214618Z
LAST-MODIFIED:20250401T214618Z
UID:16024-1743861600-1743868800@jazzhaven.org
SUMMARY:Naomi Wharry Quintet
DESCRIPTION:This Saturday\, April 5th at 2 pm\, The Naomi Wharry Quintet will be performing outside on the Broadway Plaza\, Shops at Yale.  Naomi sings and plays trombone.  Also in the group: Jeff Fuller on bass\, Chris Morrison on guitar\, Alyssa Chetrick on violin\, and Avery Wyman on drums. \n
URL:https://jazzhaven.org/event/naomi-wharry-quintet/
LOCATION:Broadway Island\, 56 Broadway\, New Haven\, CT\, 06511\, United States
GEO:41.3121378;-72.9317535
X-APPLE-STRUCTURED-LOCATION;VALUE=URI;X-ADDRESS=Broadway Island 56 Broadway New Haven CT 06511 United States;X-APPLE-RADIUS=500;X-TITLE=56 Broadway:geo:-72.9317535,41.3121378
CATEGORIES:Gigs
END:VEVENT
BEGIN:VEVENT
DTSTART;TZID=America/New_York:20250405T200000
DTEND;TZID=America/New_York:20250405T223000
DTSTAMP:20260421T085948
CREATED:20250325T124738Z
LAST-MODIFIED:20250325T124803Z
UID:16000-1743883200-1743892200@jazzhaven.org
SUMMARY:Gianni Gardner & Ascent
DESCRIPTION:\n\n\n\n\nSaturday\, April 5\n\n\n\nGianni Gardner & Ascent\n\n\n\n\n\nALL AGES\n\n\n\n\n\nJoin us for a special night of jazz with Guitarist Gianni Gardner and his Quintet celebrating his recent release of his album Ascent! \n\n\n\n\n\n\n\nBy The Side Door Jazz Club \n\n\n745 followers\n\n\n\nLots of repeat customers 📈\n\n\n\n\n\n\n\n\n\n\n\nDate and time\n\n\n\n\n\n\n\n\n\n\n\n\n\n\n\n\nSaturday\, April 5 · 8 – 10:30pm EDT. Doors at 7:15pm\n\n\n\n\n\n\n\n\n\n\n\n\n\n\n\n\nLocation\n\n\n\n\n\n\n\nThe Side Door \n85 Lyme St Old Lyme\, CT 06371 \n\n\n\n\n\nRefund Policy\n\nNo Refunds\n\n\n\n\n\n\n\n\n\n\nAbout this event\n\n\n\n\n  \n\nEvent lasts 2 hours 30 minutes\n\nALL AGES\n\n\n  \n\nFree venue parking\n\n\n\n\n\n\nGianni Gardner – Guitar \nMackenzie McCarthy – Tenor Saxophone \nFrancesco Pollon – Piano \nConway Campbell Jr. – Bass \nPeru Eizagirre – Drums \nGianni Gardner is an up-and-coming jazz guitarist and composer living in New York City. He is best known for his quintet\, Ascent\, who performs original compositions. Ascent draws inspiration from innovative composers of a variety of generations such as The Miles Davis Second Great Quintet\, Wayne Shorter\, John Coltrane\, Pat Metheny\, Kurt Rosenwinkel and his former professor\, Jimmy Greene. Ascent features both international and local musicians who reside in New York City\, including tenor saxophonist Mackenzie McCarthy from Sacramento\, California\, pianist Francesco Pollon from Venice\, Italy\, bassist Conway Campbell Jr. from Worcester\, Massachusetts\, and drummer Peru Eizagirre from The Basque Country\, Spain. \nHaving just completed his Masters of Jazz Arts from Manhattan School of Music (’24)\, Gianni studied and was deeply influenced by a wide variety of renowned jazz musicians such as guitarist Mike Moreno\, pianist Marc Cary\, bassist John Benitez and trumpeter Ingrid Jensen. \nGianni has also been regularly called to play with Connecticut based Latin Jazz group\, Ed Fast and Conga Bop\, performing at renowned venues such as The Side Door Jazz Club in Old Lyme\, CT\, The Iridium and The Django. Gianni is also the guitarist in Sean Nelson’s New London Big Band\, where they recently recorded their upcoming album\, “Don’t Stop Now – The Lost Music of Thad Jones and Harry James”\, set to release in April of 2025\, and presented the music at Birdland Jazz Club featuring lead trumpeter\, Wayne Bergeron\, and drummer John Riley of the Vanguard Jazz Orchestra. Gianni also performs with John Benitez’s Afro Cuban Jazz Band\, and John Smatla’s award winning band\, Ultrablue. \nIn June of 2024\, Ascent recorded their upcoming debut album\, “The Ascent\,” currently available on all streaming services and Bandcamp. This recording features a diverse mix of music ranging from hard swinging straight ahead jazz\, danceable upbeat groove pieces\, emotional ballads\, and an overall honest depiction of each musicians’ unique voice. \n\n\n\n\n\n
URL:https://jazzhaven.org/event/gianni-gardner-ascent/
LOCATION:The Side Door Jazz Club\, 85 Lyme St\, Old Lyme
GEO:41.3245662;-72.3263709
X-APPLE-STRUCTURED-LOCATION;VALUE=URI;X-ADDRESS=The Side Door Jazz Club 85 Lyme St Old Lyme;X-APPLE-RADIUS=500;X-TITLE=85 Lyme St:geo:-72.3263709,41.3245662
END:VEVENT
END:VCALENDAR