BEGIN:VCALENDAR
VERSION:2.0
PRODID:-//Jazz Haven - ECPv4.6.24//NONSGML v1.0//EN
CALSCALE:GREGORIAN
METHOD:PUBLISH
X-WR-CALNAME:Jazz Haven
X-ORIGINAL-URL:https://jazzhaven.org
X-WR-CALDESC:Events for Jazz Haven
BEGIN:VEVENT
DTSTART;TZID=America/New_York:20250807T170000
DTEND;TZID=America/New_York:20250807T200000
DTSTAMP:20260423T085429
CREATED:20250801T122752Z
LAST-MODIFIED:20250801T122752Z
UID:16356-1754586000-1754596800@jazzhaven.org
SUMMARY:Scoville Unit Jazz Trio at the Old Lyme Inn
DESCRIPTION:The Trio of Tim Lewis (guitar)\, Dave Daddario (upright bass)\, and John Moore (drums) will be performing at the Old Lyme Inn. Great food\, drinks\, and atmosphere at the Jazz epicenter of southeastern CT. \n
URL:https://jazzhaven.org/event/scoville-unit-jazz-trio-at-the-old-lyme-inn/
CATEGORIES:Concert,Concert & Dinner,Listening Session
END:VEVENT
BEGIN:VEVENT
DTSTART;TZID=America/New_York:20250807T180000
DTEND;TZID=America/New_York:20250807T190000
DTSTAMP:20260423T085429
CREATED:20250722T143231Z
LAST-MODIFIED:20250722T143231Z
UID:16338-1754589600-1754593200@jazzhaven.org
SUMMARY:The Joe Carter Samba Rio Duo
DESCRIPTION:August 7\, 2025    6-7 PM\nThe Joe Carter Samba Rio Duo\n\nJoe Carter – guitar\nDavid Finck – bass\n\nBurlington Library\, 34 Library lane\, Burlington\, CT\n\nFree admission\, all welcome\, registration required on website:\nhttps://burlingtonctlibrary.org\n
URL:https://jazzhaven.org/event/the-joe-carter-samba-rio-duo/
LOCATION:Burlington Library\, 34 Library Lane\, Burlington\, CT\, 06013\, United States
CATEGORIES:Gigs
END:VEVENT
BEGIN:VEVENT
DTSTART;TZID=America/New_York:20250807T180000
DTEND;TZID=America/New_York:20250807T210000
DTSTAMP:20260423T085429
CREATED:20250804T171030Z
LAST-MODIFIED:20250804T171030Z
UID:16367-1754589600-1754600400@jazzhaven.org
SUMMARY:AH-BEATS & JAZZ
DESCRIPTION: \n
URL:https://jazzhaven.org/event/ah-beats-jazz/
LOCATION:The Lodge at Silver Sands\, 640 Silver Sands Road\, East Haven\, CT\, 06512\, United States
CATEGORIES:Gigs
END:VEVENT
END:VCALENDAR